BEGIN:VCALENDAR
VERSION:2.0
PRODID:-//Library Market//iCal Export//EN
BEGIN:VEVENT
SUMMARY:Unearth a Story DIY Mud Dyeing
UID:32231
DTSTAMP:20260423T234400Z
DTSTART:20260725T160000Z
DTEND:20260725T170000Z
LOCATION:510 N Broadway, Billings, MT 59101, United States
ROOM: Community Room
DESCRIPTION:Have you ever thought about dyeing clothes or other textiles w
 ith mud?  Did you know that many cultures around the world have used clay
  and mud to dye not just their clothes, but their skin and hair, and have 
 used it to create art on walls or personal belongings?  Well, we&#039;re 
 going to get messy and try some of our very own &quot;Unearth a Story&quot
 ; DIY mud dyeing!This special Adult Summer Reading program is for mud enth
 usiasts who are 18+ and are signed up, wear grubby clothes, and bring a 10
 0% cotton t-shirt or bookbag to mud dye!
URL:https://billings.librarycalendar.com/event/making-mud-shirts-32231
END:VEVENT
END:VCALENDAR
