BEGIN:VCALENDAR
VERSION:2.0
PRODID:-//Library Market//iCal Export//EN
BEGIN:VEVENT
SUMMARY:Summer Sockalong Pt.3
UID:32229
DTSTAMP:20260423T234400Z
DTSTART:20260711T160000Z
DTEND:20260711T173000Z
LOCATION:Billings Public Library, 510 North Broadway, Billings, MT 59101, 
 United States
ROOM: Popular Materials
DESCRIPTION:Have you yearned to knit your own socks but time and know-how 
 have prevented you from following through?  We&#039;re here to cheer you 
 over the finish line with Part Three of our Summer Sockalong workshop wher
 e we continue from the heel hurdles we vaulted last week.This one is all a
 bout finishing up the foot and tying up the end.  Don&#039;t worry if you
  don&#039;t finish in this third session as the library offers lots of kni
 tting and crochet support groups throughout the month so we&#039;re always
  around to help you.  And if you made it this far then you&#039;re an awe
 some sock knitter and we can&#039;t wait to see all the beautiful socks yo
 u crank out!
URL:https://billings.librarycalendar.com/event/summer-sock-long-32229
END:VEVENT
END:VCALENDAR
