BEGIN:VCALENDAR
VERSION:2.0
PRODID:-//Library Market//iCal Export//EN
BEGIN:VEVENT
SUMMARY:Summer Sockalong Pt.2
UID:32228
DTSTAMP:20260423T234400Z
DTSTART:20260627T160000Z
DTEND:20260627T173000Z
LOCATION:Billings Public Library, 510 North Broadway, Billings, MT 59101, 
 United States
ROOM: Popular Materials
DESCRIPTION:Have you yearned to knit your own socks but time and know-how 
 have prevented you from following through?  We&#039;re here to help with 
 Part Two of our Summer Sockalong workshop where we continue from the ribbi
 ng we started last week.This one is all about knitting the heel flap and t
 urning the heel.  Don&#039;t worry, it&#039;s not as scary as it sounds a
 nd we&#039;re here to provide emotional support!  You do not need to have
  prior sock knitting experience, but you do need to know your basic knitti
 ng skills including knit stitch, purl stitch, knit two together, and slip 
 a stitch.  *If you missed week one, make sure you pick up an information 
 sheet at the Second Floor Help Desk prior to attending and have the top of
  your sock (the ribbed ankle) complete.
URL:https://billings.librarycalendar.com/event/summer-sock-long-32228
END:VEVENT
END:VCALENDAR
