BEGIN:VCALENDAR
VERSION:2.0
PRODID:-//Library Market//iCal Export//EN
BEGIN:VEVENT
SUMMARY:Summer Sockalong
UID:32227
DTSTAMP:20260423T031200Z
DTSTART:20260620T160000Z
DTEND:20260620T173000Z
LOCATION:Billings Public Library, 510 North Broadway, Billings, MT 59101, 
 United States
ROOM: Popular Materials
DESCRIPTION:Have you yearned to knit your own socks but time and know-how 
 have prevented you from following through?  We&#039;re here to help with 
 our three-part Summer Sockalong workshop.  Part one is all about getting 
 started.  You do not need to have prior sock knitting experience, but you
  do need to know your basic knitting skills including knit stitch, purl st
 itch, knit two together, and slip a stitch.  The rest we&#039;ll work on 
 together!  Bring that sock yarn you&#039;ve been hoarding, your double po
 inted needles, and get ready to cast on your perfect socks!  *Make sure y
 ou pick up an information sheet at the Second Floor Help Desk prior to att
 ending.
URL:https://billings.librarycalendar.com/event/summer-sock-long-32227
END:VEVENT
END:VCALENDAR
