BEGIN:VCALENDAR
VERSION:2.0
PRODID:-//Library Market//iCal Export//EN
BEGIN:VEVENT
SUMMARY:Closed for Event
UID:33961
DTSTAMP:20260423T103900Z
DTSTART:20260422T213000Z
DTEND:20260422T233000Z
LOCATION:Billings Public Library, 510 North Broadway, Billings, MT 59101, 
 United States
ROOM: CO+LAB
DESCRIPTION:
URL:https://billings.librarycalendar.com/index.php/event/closed-pro-33961
END:VEVENT
END:VCALENDAR
