BEGIN:VCALENDAR
VERSION:2.0
PRODID:-//Library Market//iCal Export//EN
BEGIN:VEVENT
SUMMARY:Cricut Certification: Self Care Bags
UID:33228
DTSTAMP:20260421T031200Z
DTSTART:20260509T210000Z
DTEND:20260509T223000Z
LOCATION:Billings Public Library, 510 North Broadway, Billings, MT 59101, 
 United States
ROOM: CO+LAB
DESCRIPTION:Come learn how to use the CO+LAB&#039;s Cricut cutting machine
 s in this introduction course. You’ll learn how to properly operate a Cr
 icut and make a small project!By completing this class and CO+LAB 101, you
 ’ll be certified to reserve the Cricut Venture in the CO+LAB for your ow
 n projects during CO+LAB open hours.All ages welcome, however this program
  is best suited for those 12 and up.
URL:https://billings.librarycalendar.com/index.php/event/cricut-certificat
 ion-33228
END:VEVENT
END:VCALENDAR
