BEGIN:VCALENDAR
VERSION:2.0
PRODID:-//Library Market//iCal Export//EN
BEGIN:VEVENT
SUMMARY:An Evening with Craig Johnson: The Brothers McKay
UID:32978
DTSTAMP:20260424T073300Z
DTSTART:20260613T000000Z
DTEND:20260613T010000Z
LOCATION:510 N Broadway, Billings, MT 59101, United States
ROOM: Community Room
DESCRIPTION:Join the Billings Public Library and This House of Books for a
 n evening with Craig Johnson!  The bestselling author returns to BPL to t
 alk about his latest book, The Brothers McKay, an homage to The Brothers 
 Karamazov that features his own Walt Longmire. He will be reading an excer
 pt, answering audience questions, and signing as many copies of the book a
 s people are interested in buying.Craig Johnson created the Walt Longmir
 e mystery novels, which are the basis for &quot;Longmire&quot;, the hit N
 etflix original drama. The books have won multiple awards: Le Prix du Pola
 r Nouvel Observateur/Bibliobs, the Wyoming Historical Association’s Book
  of the Year, Le Prix 813, the Western Writers of America’s Spur Award, 
 the Mountains &amp; Plains Book of the Year, the SNCF Prix de Polar, Publ
 ishers Weekly Best Book of the Year, The Watson Award, Library Journal&#
 039;s Best Mystery of the Year, the Rocky, and the Will Rogers Award for 
 Fiction.  Spirit of Steamboat was selected by the Wyoming State Library 
 as the inaugural One Book Wyoming. Johnson lives in Ucross, Wyoming, popu
 lation twenty-six.
URL:https://billings.librarycalendar.com/index.php/event/craig-johnson-lon
 gmires-return-sender-32978
END:VEVENT
END:VCALENDAR
