BEGIN:VCALENDAR
VERSION:2.0
PRODID:-//Library Market//iCal Export//EN
BEGIN:VEVENT
SUMMARY:Friday Night Fun - May Day Crafts
UID:24466
DTSTAMP:20260420T075900Z
DTSTART:20260502T000000Z
DTEND:20260502T010000Z
LOCATION:510 N Broadway, Billings, MT 59101, United States
ROOM: Community Room
DESCRIPTION:Join us on May Day to make some crafts with flowers! Crafting 
 supplies for flower crowns, mini flower baskets, and May poles/wands will 
 be available.
URL:https://billings.librarycalendar.com/index.php/event/friday-night-fun-
 24466
END:VEVENT
END:VCALENDAR
